BEGIN:VCALENDAR
VERSION:2.0
PRODID:-//Woden Early Childhood Centre - ECPv4.9.4//NONSGML v1.0//EN
CALSCALE:GREGORIAN
METHOD:PUBLISH
X-WR-CALNAME:Woden Early Childhood Centre
X-ORIGINAL-URL:https://wodenchildcare.com.au
X-WR-CALDESC:Events for Woden Early Childhood Centre
BEGIN:VTIMEZONE
TZID:"Europe/Paris"
BEGIN:DAYLIGHT
TZOFFSETFROM:+0100
TZOFFSETTO:+0200
TZNAME:CEST
DTSTART:20180325T010000
END:DAYLIGHT
BEGIN:STANDARD
TZOFFSETFROM:+0200
TZOFFSETTO:+0100
TZNAME:CET
DTSTART:20181028T010000
END:STANDARD
END:VTIMEZONE
BEGIN:VEVENT
DTSTART;VALUE=DATE:20180813
DTEND;VALUE=DATE:20180818
DTSTAMP:20260419T133028
CREATED:20180413T045607Z
LAST-MODIFIED:20180413T045607Z
UID:1550-1534118400-1534550399@wodenchildcare.com.au
SUMMARY:Book Week Book Fair
DESCRIPTION:Theme: To the book fair and beyond \nJoin us for an out of this world week full of books! \n
URL:https://wodenchildcare.com.au/event/bookweekbookfair/
END:VEVENT
END:VCALENDAR