BEGIN:VCALENDAR
VERSION:2.0
PRODID:-//Woden Early Childhood Centre - ECPv4.9.4//NONSGML v1.0//EN
CALSCALE:GREGORIAN
METHOD:PUBLISH
X-WR-CALNAME:Woden Early Childhood Centre
X-ORIGINAL-URL:https://wodenchildcare.com.au
X-WR-CALDESC:Events for Woden Early Childhood Centre
BEGIN:VTIMEZONE
TZID:"Europe/Paris"
BEGIN:DAYLIGHT
TZOFFSETFROM:+0100
TZOFFSETTO:+0200
TZNAME:CEST
DTSTART:20180325T010000
END:DAYLIGHT
BEGIN:STANDARD
TZOFFSETFROM:+0200
TZOFFSETTO:+0100
TZNAME:CET
DTSTART:20181028T010000
END:STANDARD
END:VTIMEZONE
BEGIN:VEVENT
DTSTART;TZID="Europe/Paris":20180809T103000
DTEND;TZID="Europe/Paris":20180809T113000
DTSTAMP:20260419T152153
CREATED:20180806T042326Z
LAST-MODIFIED:20180806T042326Z
UID:1714-1533810600-1533814200@wodenchildcare.com.au
SUMMARY:Woden Police Station - Gratitude Plates
DESCRIPTION:Our Intro children visit the Woden Fire Station with one of our gratitude plates full of family donations. We want to show them just how grateful we are for all that they do. \n
URL:https://wodenchildcare.com.au/event/gratitudeplates-2-2/
END:VEVENT
END:VCALENDAR