BEGIN:VCALENDAR
VERSION:2.0
PRODID:-//Woden Early Childhood Centre - ECPv4.9.4//NONSGML v1.0//EN
CALSCALE:GREGORIAN
METHOD:PUBLISH
X-WR-CALNAME:Woden Early Childhood Centre
X-ORIGINAL-URL:https://wodenchildcare.com.au
X-WR-CALDESC:Events for Woden Early Childhood Centre
BEGIN:VTIMEZONE
TZID:"Europe/Paris"
BEGIN:DAYLIGHT
TZOFFSETFROM:+0100
TZOFFSETTO:+0200
TZNAME:CEST
DTSTART:20180325T010000
END:DAYLIGHT
BEGIN:STANDARD
TZOFFSETFROM:+0200
TZOFFSETTO:+0100
TZNAME:CET
DTSTART:20181028T010000
END:STANDARD
END:VTIMEZONE
BEGIN:VEVENT
DTSTART;TZID="Europe/Paris":20180501T080000
DTEND;TZID="Europe/Paris":20180503T140000
DTSTAMP:20260426T003708
CREATED:20180412T221329Z
LAST-MODIFIED:20180412T221648Z
UID:1507-1525161600-1525356000@wodenchildcare.com.au
SUMMARY:Photo Day
DESCRIPTION:Please do not forget to bring your envelopes back to the centre to receive some lovely photos of your children while in care. \n
URL:https://wodenchildcare.com.au/event/photoday/
END:VEVENT
END:VCALENDAR