BEGIN:VCALENDAR
VERSION:2.0
PRODID:-//Woden Early Childhood Centre - ECPv4.9.4//NONSGML v1.0//EN
CALSCALE:GREGORIAN
METHOD:PUBLISH
X-WR-CALNAME:Woden Early Childhood Centre
X-ORIGINAL-URL:https://wodenchildcare.com.au
X-WR-CALDESC:Events for Woden Early Childhood Centre
BEGIN:VTIMEZONE
TZID:"Europe/Paris"
BEGIN:DAYLIGHT
TZOFFSETFROM:+0100
TZOFFSETTO:+0200
TZNAME:CEST
DTSTART:20260329T010000
END:DAYLIGHT
BEGIN:STANDARD
TZOFFSETFROM:+0200
TZOFFSETTO:+0100
TZNAME:CET
DTSTART:20261025T010000
END:STANDARD
END:VTIMEZONE
BEGIN:VEVENT
DTSTART;TZID="Europe/Paris":20261125T181500
DTEND;TZID="Europe/Paris":20261125T201500
DTSTAMP:20260422T002102
CREATED:20180423T011911Z
LAST-MODIFIED:20180423T011911Z
UID:4301-1795630500-1795637700@wodenchildcare.com.au
SUMMARY:Committee Meeting
DESCRIPTION:This is the Centre’s monthly meeting. All interested families are welcome to join us. Please let us know in advance if you require care. \n
URL:https://wodenchildcare.com.au/event/committeemeeting/2026-11-25/
END:VEVENT
END:VCALENDAR